BEGIN:VCALENDAR
VERSION:2.0
PRODID:-//Landkreis Böblingen bleibt bunt e.V. - ECPv6.15.13//NONSGML v1.0//EN
CALSCALE:GREGORIAN
METHOD:PUBLISH
X-WR-CALNAME:Landkreis Böblingen bleibt bunt e.V.
X-ORIGINAL-URL:https://www.lkbb-bb.de
X-WR-CALDESC:Veranstaltungen für Landkreis Böblingen bleibt bunt e.V.
REFRESH-INTERVAL;VALUE=DURATION:PT1H
X-Robots-Tag:noindex
X-PUBLISHED-TTL:PT1H
BEGIN:VTIMEZONE
TZID:Europe/Berlin
BEGIN:DAYLIGHT
TZOFFSETFROM:+0100
TZOFFSETTO:+0200
TZNAME:CEST
DTSTART:20250330T010000
END:DAYLIGHT
BEGIN:STANDARD
TZOFFSETFROM:+0200
TZOFFSETTO:+0100
TZNAME:CET
DTSTART:20251026T010000
END:STANDARD
BEGIN:DAYLIGHT
TZOFFSETFROM:+0100
TZOFFSETTO:+0200
TZNAME:CEST
DTSTART:20260329T010000
END:DAYLIGHT
BEGIN:STANDARD
TZOFFSETFROM:+0200
TZOFFSETTO:+0100
TZNAME:CET
DTSTART:20261025T010000
END:STANDARD
BEGIN:DAYLIGHT
TZOFFSETFROM:+0100
TZOFFSETTO:+0200
TZNAME:CEST
DTSTART:20270328T010000
END:DAYLIGHT
BEGIN:STANDARD
TZOFFSETFROM:+0200
TZOFFSETTO:+0100
TZNAME:CET
DTSTART:20271031T010000
END:STANDARD
END:VTIMEZONE
BEGIN:VEVENT
DTSTART;TZID=Europe/Berlin:20260429T193000
DTEND;TZID=Europe/Berlin:20260429T193000
DTSTAMP:20260424T123329
CREATED:20260109T204814Z
LAST-MODIFIED:20260325T123243Z
UID:10000396-1777491000-1777491000@www.lkbb-bb.de
SUMMARY:Farbenrausch & Feierabend\, ab dem 14.1. jeden Mittwoch
DESCRIPTION:
URL:https://www.lkbb-bb.de/event/farbenrausch-feierabend/2026-04-29/
CATEGORIES:Offene Veranstaltung
END:VEVENT
BEGIN:VEVENT
DTSTART;TZID=Europe/Berlin:20260506T193000
DTEND;TZID=Europe/Berlin:20260506T193000
DTSTAMP:20260424T123329
CREATED:20260109T204814Z
LAST-MODIFIED:20260325T123243Z
UID:10000397-1778095800-1778095800@www.lkbb-bb.de
SUMMARY:Farbenrausch & Feierabend\, ab dem 14.1. jeden Mittwoch
DESCRIPTION:
URL:https://www.lkbb-bb.de/event/farbenrausch-feierabend/2026-05-06/
CATEGORIES:Offene Veranstaltung
END:VEVENT
BEGIN:VEVENT
DTSTART;TZID=Europe/Berlin:20260513T193000
DTEND;TZID=Europe/Berlin:20260513T193000
DTSTAMP:20260424T123329
CREATED:20260109T204814Z
LAST-MODIFIED:20260325T123243Z
UID:10000398-1778700600-1778700600@www.lkbb-bb.de
SUMMARY:Farbenrausch & Feierabend\, ab dem 14.1. jeden Mittwoch
DESCRIPTION:
URL:https://www.lkbb-bb.de/event/farbenrausch-feierabend/2026-05-13/
CATEGORIES:Offene Veranstaltung
END:VEVENT
BEGIN:VEVENT
DTSTART;TZID=Europe/Berlin:20260520T193000
DTEND;TZID=Europe/Berlin:20260520T193000
DTSTAMP:20260424T123329
CREATED:20260109T204814Z
LAST-MODIFIED:20260325T123243Z
UID:10000399-1779305400-1779305400@www.lkbb-bb.de
SUMMARY:Farbenrausch & Feierabend\, ab dem 14.1. jeden Mittwoch
DESCRIPTION:
URL:https://www.lkbb-bb.de/event/farbenrausch-feierabend/2026-05-20/
CATEGORIES:Offene Veranstaltung
END:VEVENT
BEGIN:VEVENT
DTSTART;TZID=Europe/Berlin:20260527T193000
DTEND;TZID=Europe/Berlin:20260527T193000
DTSTAMP:20260424T123329
CREATED:20260109T204814Z
LAST-MODIFIED:20260325T123243Z
UID:10000400-1779910200-1779910200@www.lkbb-bb.de
SUMMARY:Farbenrausch & Feierabend\, ab dem 14.1. jeden Mittwoch
DESCRIPTION:
URL:https://www.lkbb-bb.de/event/farbenrausch-feierabend/2026-05-27/
CATEGORIES:Offene Veranstaltung
END:VEVENT
BEGIN:VEVENT
DTSTART;TZID=Europe/Berlin:20260603T193000
DTEND;TZID=Europe/Berlin:20260603T193000
DTSTAMP:20260424T123329
CREATED:20260109T204814Z
LAST-MODIFIED:20260325T123243Z
UID:10000401-1780515000-1780515000@www.lkbb-bb.de
SUMMARY:Farbenrausch & Feierabend\, ab dem 14.1. jeden Mittwoch
DESCRIPTION:
URL:https://www.lkbb-bb.de/event/farbenrausch-feierabend/2026-06-03/
CATEGORIES:Offene Veranstaltung
END:VEVENT
BEGIN:VEVENT
DTSTART;TZID=Europe/Berlin:20260610T193000
DTEND;TZID=Europe/Berlin:20260610T193000
DTSTAMP:20260424T123329
CREATED:20260109T204814Z
LAST-MODIFIED:20260325T123243Z
UID:10000402-1781119800-1781119800@www.lkbb-bb.de
SUMMARY:Farbenrausch & Feierabend\, ab dem 14.1. jeden Mittwoch
DESCRIPTION:
URL:https://www.lkbb-bb.de/event/farbenrausch-feierabend/2026-06-10/
CATEGORIES:Offene Veranstaltung
END:VEVENT
BEGIN:VEVENT
DTSTART;TZID=Europe/Berlin:20260617T193000
DTEND;TZID=Europe/Berlin:20260617T193000
DTSTAMP:20260424T123329
CREATED:20260109T204814Z
LAST-MODIFIED:20260325T123243Z
UID:10000403-1781724600-1781724600@www.lkbb-bb.de
SUMMARY:Farbenrausch & Feierabend\, ab dem 14.1. jeden Mittwoch
DESCRIPTION:
URL:https://www.lkbb-bb.de/event/farbenrausch-feierabend/2026-06-17/
CATEGORIES:Offene Veranstaltung
END:VEVENT
BEGIN:VEVENT
DTSTART;TZID=Europe/Berlin:20260624T193000
DTEND;TZID=Europe/Berlin:20260624T193000
DTSTAMP:20260424T123329
CREATED:20260109T204814Z
LAST-MODIFIED:20260325T123243Z
UID:10000404-1782329400-1782329400@www.lkbb-bb.de
SUMMARY:Farbenrausch & Feierabend\, ab dem 14.1. jeden Mittwoch
DESCRIPTION:
URL:https://www.lkbb-bb.de/event/farbenrausch-feierabend/2026-06-24/
CATEGORIES:Offene Veranstaltung
END:VEVENT
BEGIN:VEVENT
DTSTART;TZID=Europe/Berlin:20260701T193000
DTEND;TZID=Europe/Berlin:20260701T193000
DTSTAMP:20260424T123329
CREATED:20260109T204814Z
LAST-MODIFIED:20260325T123243Z
UID:10000405-1782934200-1782934200@www.lkbb-bb.de
SUMMARY:Farbenrausch & Feierabend\, ab dem 14.1. jeden Mittwoch
DESCRIPTION:
URL:https://www.lkbb-bb.de/event/farbenrausch-feierabend/2026-07-01/
CATEGORIES:Offene Veranstaltung
END:VEVENT
BEGIN:VEVENT
DTSTART;TZID=Europe/Berlin:20260708T193000
DTEND;TZID=Europe/Berlin:20260708T193000
DTSTAMP:20260424T123329
CREATED:20260109T204814Z
LAST-MODIFIED:20260325T123243Z
UID:10000406-1783539000-1783539000@www.lkbb-bb.de
SUMMARY:Farbenrausch & Feierabend\, ab dem 14.1. jeden Mittwoch
DESCRIPTION:
URL:https://www.lkbb-bb.de/event/farbenrausch-feierabend/2026-07-08/
CATEGORIES:Offene Veranstaltung
END:VEVENT
BEGIN:VEVENT
DTSTART;TZID=Europe/Berlin:20260715T193000
DTEND;TZID=Europe/Berlin:20260715T193000
DTSTAMP:20260424T123329
CREATED:20260109T204814Z
LAST-MODIFIED:20260325T123243Z
UID:10000407-1784143800-1784143800@www.lkbb-bb.de
SUMMARY:Farbenrausch & Feierabend\, ab dem 14.1. jeden Mittwoch
DESCRIPTION:
URL:https://www.lkbb-bb.de/event/farbenrausch-feierabend/2026-07-15/
CATEGORIES:Offene Veranstaltung
END:VEVENT
BEGIN:VEVENT
DTSTART;TZID=Europe/Berlin:20260722T193000
DTEND;TZID=Europe/Berlin:20260722T193000
DTSTAMP:20260424T123329
CREATED:20260109T204814Z
LAST-MODIFIED:20260325T123243Z
UID:10000408-1784748600-1784748600@www.lkbb-bb.de
SUMMARY:Farbenrausch & Feierabend\, ab dem 14.1. jeden Mittwoch
DESCRIPTION:
URL:https://www.lkbb-bb.de/event/farbenrausch-feierabend/2026-07-22/
CATEGORIES:Offene Veranstaltung
END:VEVENT
BEGIN:VEVENT
DTSTART;TZID=Europe/Berlin:20260729T193000
DTEND;TZID=Europe/Berlin:20260729T193000
DTSTAMP:20260424T123329
CREATED:20260109T204814Z
LAST-MODIFIED:20260325T123243Z
UID:10000409-1785353400-1785353400@www.lkbb-bb.de
SUMMARY:Farbenrausch & Feierabend\, ab dem 14.1. jeden Mittwoch
DESCRIPTION:
URL:https://www.lkbb-bb.de/event/farbenrausch-feierabend/2026-07-29/
CATEGORIES:Offene Veranstaltung
END:VEVENT
BEGIN:VEVENT
DTSTART;TZID=Europe/Berlin:20260805T193000
DTEND;TZID=Europe/Berlin:20260805T193000
DTSTAMP:20260424T123329
CREATED:20260109T204814Z
LAST-MODIFIED:20260325T123243Z
UID:10000410-1785958200-1785958200@www.lkbb-bb.de
SUMMARY:Farbenrausch & Feierabend\, ab dem 14.1. jeden Mittwoch
DESCRIPTION:
URL:https://www.lkbb-bb.de/event/farbenrausch-feierabend/2026-08-05/
CATEGORIES:Offene Veranstaltung
END:VEVENT
BEGIN:VEVENT
DTSTART;TZID=Europe/Berlin:20260812T193000
DTEND;TZID=Europe/Berlin:20260812T193000
DTSTAMP:20260424T123329
CREATED:20260109T204814Z
LAST-MODIFIED:20260325T123243Z
UID:10000411-1786563000-1786563000@www.lkbb-bb.de
SUMMARY:Farbenrausch & Feierabend\, ab dem 14.1. jeden Mittwoch
DESCRIPTION:
URL:https://www.lkbb-bb.de/event/farbenrausch-feierabend/2026-08-12/
CATEGORIES:Offene Veranstaltung
END:VEVENT
BEGIN:VEVENT
DTSTART;TZID=Europe/Berlin:20260819T193000
DTEND;TZID=Europe/Berlin:20260819T193000
DTSTAMP:20260424T123329
CREATED:20260109T204814Z
LAST-MODIFIED:20260325T123243Z
UID:10000412-1787167800-1787167800@www.lkbb-bb.de
SUMMARY:Farbenrausch & Feierabend\, ab dem 14.1. jeden Mittwoch
DESCRIPTION:
URL:https://www.lkbb-bb.de/event/farbenrausch-feierabend/2026-08-19/
CATEGORIES:Offene Veranstaltung
END:VEVENT
BEGIN:VEVENT
DTSTART;TZID=Europe/Berlin:20260826T193000
DTEND;TZID=Europe/Berlin:20260826T193000
DTSTAMP:20260424T123329
CREATED:20260109T204814Z
LAST-MODIFIED:20260325T123243Z
UID:10000413-1787772600-1787772600@www.lkbb-bb.de
SUMMARY:Farbenrausch & Feierabend\, ab dem 14.1. jeden Mittwoch
DESCRIPTION:
URL:https://www.lkbb-bb.de/event/farbenrausch-feierabend/2026-08-26/
CATEGORIES:Offene Veranstaltung
END:VEVENT
BEGIN:VEVENT
DTSTART;TZID=Europe/Berlin:20260902T193000
DTEND;TZID=Europe/Berlin:20260902T193000
DTSTAMP:20260424T123329
CREATED:20260109T204814Z
LAST-MODIFIED:20260325T123243Z
UID:10000414-1788377400-1788377400@www.lkbb-bb.de
SUMMARY:Farbenrausch & Feierabend\, ab dem 14.1. jeden Mittwoch
DESCRIPTION:
URL:https://www.lkbb-bb.de/event/farbenrausch-feierabend/2026-09-02/
CATEGORIES:Offene Veranstaltung
END:VEVENT
BEGIN:VEVENT
DTSTART;TZID=Europe/Berlin:20260909T193000
DTEND;TZID=Europe/Berlin:20260909T193000
DTSTAMP:20260424T123329
CREATED:20260109T204814Z
LAST-MODIFIED:20260325T123243Z
UID:10000415-1788982200-1788982200@www.lkbb-bb.de
SUMMARY:Farbenrausch & Feierabend\, ab dem 14.1. jeden Mittwoch
DESCRIPTION:
URL:https://www.lkbb-bb.de/event/farbenrausch-feierabend/2026-09-09/
CATEGORIES:Offene Veranstaltung
END:VEVENT
BEGIN:VEVENT
DTSTART;TZID=Europe/Berlin:20260916T193000
DTEND;TZID=Europe/Berlin:20260916T193000
DTSTAMP:20260424T123329
CREATED:20260109T204814Z
LAST-MODIFIED:20260325T123243Z
UID:10000416-1789587000-1789587000@www.lkbb-bb.de
SUMMARY:Farbenrausch & Feierabend\, ab dem 14.1. jeden Mittwoch
DESCRIPTION:
URL:https://www.lkbb-bb.de/event/farbenrausch-feierabend/2026-09-16/
CATEGORIES:Offene Veranstaltung
END:VEVENT
BEGIN:VEVENT
DTSTART;TZID=Europe/Berlin:20260923T193000
DTEND;TZID=Europe/Berlin:20260923T193000
DTSTAMP:20260424T123329
CREATED:20260109T204814Z
LAST-MODIFIED:20260325T123243Z
UID:10000417-1790191800-1790191800@www.lkbb-bb.de
SUMMARY:Farbenrausch & Feierabend\, ab dem 14.1. jeden Mittwoch
DESCRIPTION:
URL:https://www.lkbb-bb.de/event/farbenrausch-feierabend/2026-09-23/
CATEGORIES:Offene Veranstaltung
END:VEVENT
BEGIN:VEVENT
DTSTART;TZID=Europe/Berlin:20260930T193000
DTEND;TZID=Europe/Berlin:20260930T193000
DTSTAMP:20260424T123329
CREATED:20260109T204814Z
LAST-MODIFIED:20260325T123243Z
UID:10000418-1790796600-1790796600@www.lkbb-bb.de
SUMMARY:Farbenrausch & Feierabend\, ab dem 14.1. jeden Mittwoch
DESCRIPTION:
URL:https://www.lkbb-bb.de/event/farbenrausch-feierabend/2026-09-30/
CATEGORIES:Offene Veranstaltung
END:VEVENT
BEGIN:VEVENT
DTSTART;TZID=Europe/Berlin:20261007T193000
DTEND;TZID=Europe/Berlin:20261007T193000
DTSTAMP:20260424T123329
CREATED:20260109T204814Z
LAST-MODIFIED:20260325T123243Z
UID:10000419-1791401400-1791401400@www.lkbb-bb.de
SUMMARY:Farbenrausch & Feierabend\, ab dem 14.1. jeden Mittwoch
DESCRIPTION:
URL:https://www.lkbb-bb.de/event/farbenrausch-feierabend/2026-10-07/
CATEGORIES:Offene Veranstaltung
END:VEVENT
BEGIN:VEVENT
DTSTART;TZID=Europe/Berlin:20261014T193000
DTEND;TZID=Europe/Berlin:20261014T193000
DTSTAMP:20260424T123330
CREATED:20260109T204814Z
LAST-MODIFIED:20260325T123243Z
UID:10000420-1792006200-1792006200@www.lkbb-bb.de
SUMMARY:Farbenrausch & Feierabend\, ab dem 14.1. jeden Mittwoch
DESCRIPTION:
URL:https://www.lkbb-bb.de/event/farbenrausch-feierabend/2026-10-14/
CATEGORIES:Offene Veranstaltung
END:VEVENT
BEGIN:VEVENT
DTSTART;TZID=Europe/Berlin:20261021T193000
DTEND;TZID=Europe/Berlin:20261021T193000
DTSTAMP:20260424T123330
CREATED:20260109T204814Z
LAST-MODIFIED:20260325T123243Z
UID:10000421-1792611000-1792611000@www.lkbb-bb.de
SUMMARY:Farbenrausch & Feierabend\, ab dem 14.1. jeden Mittwoch
DESCRIPTION:
URL:https://www.lkbb-bb.de/event/farbenrausch-feierabend/2026-10-21/
CATEGORIES:Offene Veranstaltung
END:VEVENT
BEGIN:VEVENT
DTSTART;TZID=Europe/Berlin:20261028T193000
DTEND;TZID=Europe/Berlin:20261028T193000
DTSTAMP:20260424T123330
CREATED:20260109T204814Z
LAST-MODIFIED:20260325T123243Z
UID:10000422-1793215800-1793215800@www.lkbb-bb.de
SUMMARY:Farbenrausch & Feierabend\, ab dem 14.1. jeden Mittwoch
DESCRIPTION:
URL:https://www.lkbb-bb.de/event/farbenrausch-feierabend/2026-10-28/
CATEGORIES:Offene Veranstaltung
END:VEVENT
BEGIN:VEVENT
DTSTART;TZID=Europe/Berlin:20261104T193000
DTEND;TZID=Europe/Berlin:20261104T193000
DTSTAMP:20260424T123330
CREATED:20260109T204814Z
LAST-MODIFIED:20260325T123243Z
UID:10000423-1793820600-1793820600@www.lkbb-bb.de
SUMMARY:Farbenrausch & Feierabend\, ab dem 14.1. jeden Mittwoch
DESCRIPTION:
URL:https://www.lkbb-bb.de/event/farbenrausch-feierabend/2026-11-04/
CATEGORIES:Offene Veranstaltung
END:VEVENT
BEGIN:VEVENT
DTSTART;TZID=Europe/Berlin:20261111T193000
DTEND;TZID=Europe/Berlin:20261111T193000
DTSTAMP:20260424T123330
CREATED:20260109T204814Z
LAST-MODIFIED:20260325T123243Z
UID:10000424-1794425400-1794425400@www.lkbb-bb.de
SUMMARY:Farbenrausch & Feierabend\, ab dem 14.1. jeden Mittwoch
DESCRIPTION:
URL:https://www.lkbb-bb.de/event/farbenrausch-feierabend/2026-11-11/
CATEGORIES:Offene Veranstaltung
END:VEVENT
BEGIN:VEVENT
DTSTART;TZID=Europe/Berlin:20261118T193000
DTEND;TZID=Europe/Berlin:20261118T193000
DTSTAMP:20260424T123330
CREATED:20260109T204814Z
LAST-MODIFIED:20260325T123243Z
UID:10000425-1795030200-1795030200@www.lkbb-bb.de
SUMMARY:Farbenrausch & Feierabend\, ab dem 14.1. jeden Mittwoch
DESCRIPTION:
URL:https://www.lkbb-bb.de/event/farbenrausch-feierabend/2026-11-18/
CATEGORIES:Offene Veranstaltung
END:VEVENT
END:VCALENDAR